BEGIN:VCALENDAR
VERSION:2.0
PRODID:-//WP EVENT Manager Ical//NONSGML Events//EN
CALSCALE:GREGORIAN
BEGIN:VTIMEZONE
TZID:Europe/Berlin
BEGIN:STANDARD
DTSTART:19700101T000000
TZOFFSETFROM:+0100
TZOFFSETTO:+0100
END:STANDARD
END:VTIMEZONE
BEGIN:VEVENT
UID:69e7579b39b64@fotografie-sommerschule.de
DTSTAMP:20260421T105523Z
DTSTART;TZID=Europe/Berlin:20260730T190000
DTEND;TZID=Europe/Berlin:20260730T210000
LOCATION:Online
SUMMARY:Harald Löfflers »Einführung in den Fine-Art-Druck zu Hause: alles, was Sie für gute Ergebnisse wissen müssen«
DESCRIPTION:Ein guter Fine-Art-Druck ist immer ein ErlebnisDas eigene Foto als hochwertigen Druck in der Hand zu halten ist etwas ganz Anderes, als es immer nur auf dem Bildschirm zu sehen. Das Motiv, das man zu kennen glaubte, sieht man nun mit anderen Augen, es offenbart neue Details, die Pigmentfarben und das Fine-Art-Fotopapier geben ihm Gewicht, Dauerhaftigkeit und Wert.Wer sich möglichst viel Kontrolle über den Prozess wünscht oder einfach häufiger hochwertige Fotodrucke benötigt, wird selbst drucken wollen. Doch der Weg zum gelungenen Print kann länger und teurer sein als gedacht – von der Monitorkalibrierung über das richtige Arbeiten mit Farbräumen bis zum Einbinden von Papierprofilen und der korrekten Konfiguration des Drucken-Vorgangs gibt es viel zu beachten. Was Sie für gute Ergebnisse haben und wissen müssen und wie ein Fine-Art-Druckworkflow im Detail aussieht, erfahren Sie in diesem Vortrag des Druck-Experten und Certified Photoshop Lightroom Experts Harald Löffler.Aus dem Inhalt:Was ist Fine-Art-Printing und was benötige ich dafür?Auswahlkriterien und -Unterstützung für den Drucker-Kauf: Dye vs. Pigment, Anzahl d. Farben, A4, A3+ oder doch A2?Papierauswahl: Das passende Papier zum Motiv, FineArt vs. Photo-Papiere, OBA: Ja/Nein, Haltbarkeit und LagerungWichtige Aspekte für die Bildbearbeitung im Hinblick auf hochwertige Druckergebnisse: Auflösung, Farbtiefe, Farbräume, AusgabeschärfenRendering Intent: Was macht diese Option beim Druck und wie muss ich sie einstellen?Softproofing: Was ist das und wozu benötige ich das? Beispiele in Lightroom ClassicDer Druck: Welche Einstellungen in Software (Lightroom Classic) und Druckertreiber, Profilauswahl, Papierauswahl, Auflösung, Druckqualität?Zusammenfassung wichtiger Aspekte, Erläuterung typischer Fehler und wie man sie vermeidetMit freundlicher Unterstützung von HahnemühleJede Teilnehmerin und jeder Teilnehmer erhält im Anschluss an den Vortrag ein kleines Fine-Art-Druck-Paket mit ein paar schönen Goodies von Hahnemühle.Gratis-Aufzeichnung zum StreamenWenn Sie den Vortrag gebucht haben, erhalten Sie am Tag danach einen passwortgeschützten Link zur Aufzeichnung, so dass Sie alles nochmal in Ruhe anschauen und nachvollziehen können (Video steht zeitlich unbegrenzt online).Harald Löfflers langjährige Erfahrung und sein profundes Wissen in vielen Bereichen der digitalen Fotografie machen ihn zu einem gefragten Experten, wenn es um Themen wie Bildbearbeitung, Panoramafotografie, digitaler Workflow, Lightroom, Farbmanagement oder seine weitere große Leidenschaft – das Fine-Art-Printing – geht. Der &#8222;Adobe Certified Expert&#8220; gibt sein Wissen gerne und mit großem Engagement in Form von Vorträgen, Seminaren und Workshops weiter. Mehr über Harald Löfflers Arbeit erfahren Sie auf seiner Website https://eye-of-the-tiger.com/.teilen&nbsp;teilen&nbsp;teilen&nbsp;teilen&nbsp;
BEGIN:VTIMEZONE
TZID:+01:00
BEGIN:STANDARD
DTSTART:19700101T000000
TZOFFSETFROM:+0000
TZOFFSETTO:+0000
END:STANDARD
END:VTIMEZONE
END:VEVENT
END:VCALENDAR