BEGIN:VCALENDAR
VERSION:2.0
PRODID:-//WP EVENT Manager Ical//NONSGML Events//EN
CALSCALE:GREGORIAN
BEGIN:VTIMEZONE
TZID:Europe/Berlin
BEGIN:STANDARD
DTSTART:19700101T000000
TZOFFSETFROM:+0100
TZOFFSETTO:+0100
END:STANDARD
END:VTIMEZONE
BEGIN:VEVENT
UID:69e5a038a2e5e@fotografie-sommerschule.de
DTSTAMP:20260420T034040Z
DTSTART;TZID=Europe/Berlin:20260709T190000
DTEND;TZID=Europe/Berlin:20260709T210000
LOCATION:Online
SUMMARY:Maike Jarsetz‘ »Schwarzweiß-Bilder entwickeln«
DESCRIPTION:Tickets für diese Veranstaltung finden Sie in unserem Ticket-Shop.Steigen Sie ein in die Schwarzweiß-Fine-Art-FotografieIn diesem Online-Vortrag zeigt Maike Jarsetz Liebhaber*innen der Schwarzweiß-Fotografie alle Wege zu einem perfekten Schwarzweiß-Bild. In zwei Stunden lernen Sie, was ein gutes Schwarzweiß-Motiv ausmacht, wie Sie optimale Tonwerte in der Raw-Entwicklung ausloten, wie Sie Ihrem Foto mit einem fein ausgesteuerten Kontrast Tiefe verleihen und mit welchen Techniken Ihr Bild das letzte Finetuning erhält. Der Schwerpunkt der Bildentwicklung findet in Lightroom Classic statt, alle Techniken sind auch in Camera Raw anwendbar. Für das Finishing werden auch Funktionen in Photoshop genutzt.Aus dem Inhalt:Schwarzweiß-Bilder entwickelnDigitale FiltertechnikenMonochrome ProfileKontraststeuerung nach Schwarzweiß-UmsetzungGlobaler und DetailkontrastLichter und Schatten perfektionierenTiefenzeichnung optimierenDer letzte SchliffGratis-Aufzeichnung zum StreamenWenn Sie den Vortrag gebucht haben, erhalten Sie am darauffolgenden Tag einen passwortgeschützten Link zu Aufzeichnung, so dass Sie alles nochmal in Ruhe anschauen und nachvollziehen können (Video steht zeitlich unbegrenzt online). Die Hamburgerin Maike Jarsetz ist ausgebildete Fotografin und als Trainerin, Autorin und Beraterin im Bereich Fotografie und Bildbearbeitung, Print und Publishing tätig. Sie ist Adobe Certified Expert, gilt als ausgewiesene Expertin für Adobe Photoshop und Lightroom sowie für das gesamte Creative Cloud-Portfolio im Design-Bereich.Auf vielen Veranstaltungen der Fotografie- und Bildbearbeiter-Szene ist sie mit Präsentationen und Vorträgen vertreten. In ihren Vorträgen, Büchern und Artikeln verknüpft sie aktuelles Software-Knowhow mit ihren beruflichen Wurzeln. Ihre Bücher landen regelmäßig auf Bestseller-Listen, außerdem veröffentlicht sie Videotrainings als LinkedIn-Learning-Instructor, als Autorin bei FotoTV sowie auf ihrer Webseite und im eigenen YouTube-Kanal. 2020 erschien im dpunkt.verlag Ihr aktuelles Werk »Maike Jarsetz&#8216; digitale Dunkelkammer«. Außerdem veröffentlicht sie Videotrainings als LinkedIn-Learning-Instructor, als Autorin bei FotoTV und eigene Trainings und Tutorials auf ihrer Webseite und im eigenen YouTube-Kanal.teilen&nbsp;teilen&nbsp;teilen&nbsp;teilen&nbsp;
BEGIN:VTIMEZONE
TZID:+01:00
BEGIN:STANDARD
DTSTART:19700101T000000
TZOFFSETFROM:+0000
TZOFFSETTO:+0000
END:STANDARD
END:VTIMEZONE
END:VEVENT
END:VCALENDAR